BEGIN:VCALENDAR
VERSION:2.0
PRODID:-//Chas Williamson Books - ECPv6.15.20//NONSGML v1.0//EN
CALSCALE:GREGORIAN
METHOD:PUBLISH
X-ORIGINAL-URL:https://chaswilliamson.com
X-WR-CALDESC:Events for Chas Williamson Books
REFRESH-INTERVAL;VALUE=DURATION:PT1H
X-Robots-Tag:noindex
X-PUBLISHED-TTL:PT1H
BEGIN:VTIMEZONE
TZID:America/New_York
BEGIN:DAYLIGHT
TZOFFSETFROM:-0500
TZOFFSETTO:-0400
TZNAME:EDT
DTSTART:20240310T070000
END:DAYLIGHT
BEGIN:STANDARD
TZOFFSETFROM:-0400
TZOFFSETTO:-0500
TZNAME:EST
DTSTART:20241103T060000
END:STANDARD
BEGIN:DAYLIGHT
TZOFFSETFROM:-0500
TZOFFSETTO:-0400
TZNAME:EDT
DTSTART:20250309T070000
END:DAYLIGHT
BEGIN:STANDARD
TZOFFSETFROM:-0400
TZOFFSETTO:-0500
TZNAME:EST
DTSTART:20251102T060000
END:STANDARD
BEGIN:DAYLIGHT
TZOFFSETFROM:-0500
TZOFFSETTO:-0400
TZNAME:EDT
DTSTART:20260308T070000
END:DAYLIGHT
BEGIN:STANDARD
TZOFFSETFROM:-0400
TZOFFSETTO:-0500
TZNAME:EST
DTSTART:20261101T060000
END:STANDARD
BEGIN:DAYLIGHT
TZOFFSETFROM:-0500
TZOFFSETTO:-0400
TZNAME:EDT
DTSTART:20270314T070000
END:DAYLIGHT
BEGIN:STANDARD
TZOFFSETFROM:-0400
TZOFFSETTO:-0500
TZNAME:EST
DTSTART:20271107T060000
END:STANDARD
END:VTIMEZONE
BEGIN:VTIMEZONE
TZID:America/Denver
BEGIN:DAYLIGHT
TZOFFSETFROM:-0700
TZOFFSETTO:-0600
TZNAME:MDT
DTSTART:20230312T090000
END:DAYLIGHT
BEGIN:STANDARD
TZOFFSETFROM:-0600
TZOFFSETTO:-0700
TZNAME:MST
DTSTART:20231105T080000
END:STANDARD
BEGIN:DAYLIGHT
TZOFFSETFROM:-0700
TZOFFSETTO:-0600
TZNAME:MDT
DTSTART:20240310T090000
END:DAYLIGHT
BEGIN:STANDARD
TZOFFSETFROM:-0600
TZOFFSETTO:-0700
TZNAME:MST
DTSTART:20241103T080000
END:STANDARD
BEGIN:DAYLIGHT
TZOFFSETFROM:-0700
TZOFFSETTO:-0600
TZNAME:MDT
DTSTART:20250309T090000
END:DAYLIGHT
BEGIN:STANDARD
TZOFFSETFROM:-0600
TZOFFSETTO:-0700
TZNAME:MST
DTSTART:20251102T080000
END:STANDARD
END:VTIMEZONE
BEGIN:VEVENT
DTSTART;TZID=America/New_York:20260321T080000
DTEND;TZID=America/New_York:20260321T130000
DTSTAMP:20260424T075426
CREATED:20260225T171654Z
LAST-MODIFIED:20260225T171654Z
UID:10000028-1774080000-1774098000@chaswilliamson.com
SUMMARY:Booksigning at St. Paul's Lutheran Church in Hanover\, PA
DESCRIPTION:Come join Chas Williamson\, a local Women’s Christian Fiction Romance author at St. Paul’s Lutheran Church in Hanover\, Pa.  Stop by and say hi and purchase one of his unputdownable Christian Romance reads!  Hope to see you there!
URL:https://chaswilliamson.com/event1a/booksigning-at-st-pauls-lutheran-church-in-hanover-pa/
LOCATION:St. Paul Lutheran Church\, 1214 Broadway\, Hanover\, PA\, 17331\, United States
END:VEVENT
BEGIN:VEVENT
DTSTART;TZID=America/New_York:20260221T110000
DTEND;TZID=America/New_York:20260221T130000
DTSTAMP:20260424T075426
CREATED:20260209T191851Z
LAST-MODIFIED:20260209T192016Z
UID:10000027-1771671600-1771678800@chaswilliamson.com
SUMMARY:Come Meet Chas at Sugar Plums and Teas for a booksigning
DESCRIPTION:Come meet Chas Williamson\, a local Christian romance author for a booksigning at Sugar Plums and Teas.  Reservations are required.  Call 717 394-9166 for Reservations.
URL:https://chaswilliamson.com/event1a/come-meet-chas-at-sugar-plums-and-teas-for-a-booksigning/
LOCATION:Sugar Plums and Teas Tea Room\, 403 Bank Barn Lane\, Lancaster\, PA\, 17602\, United States
END:VEVENT
BEGIN:VEVENT
DTSTART;TZID=America/New_York:20251213T090000
DTEND;TZID=America/New_York:20251213T150000
DTSTAMP:20260424T075426
CREATED:20251125T181824Z
LAST-MODIFIED:20251125T181824Z
UID:10000026-1765616400-1765638000@chaswilliamson.com
SUMMARY:Holiday Market at Red Lion Junior High School-A booksigning!
DESCRIPTION:Come out to see Chas\, say Hi and purchase his newest book\, A Catoctin Christmas for someone special!
URL:https://chaswilliamson.com/event1a/holiday-market-at-red-lion-junior-high-school-a-booksigning/
LOCATION:Red Lion Jr. High School\, 200 Country Club Road\, Red Lion\, PA\, 17356\, United States
END:VEVENT
BEGIN:VEVENT
DTSTART;TZID=America/New_York:20251206T110000
DTEND;TZID=America/New_York:20251206T130000
DTSTAMP:20260424T075426
CREATED:20251125T181255Z
LAST-MODIFIED:20251125T181255Z
UID:10000025-1765018800-1765026000@chaswilliamson.com
SUMMARY:Sugarplums and Teas Christmas Booksigning!
DESCRIPTION:Come join Chas at Sugarplums and Teas to pick up his newest Christmas book\, A Catoctin Christmas for yourself or someone on your list!
URL:https://chaswilliamson.com/event1a/sugarplums-and-teas-christmas-booksigning/
LOCATION:Sugar Plums and Teas Tea Room\, 403 Bank Barn Lane\, Lancaster\, PA\, 17602\, United States
END:VEVENT
BEGIN:VEVENT
DTSTART;TZID=America/New_York:20251129T090000
DTEND;TZID=America/New_York:20251129T150000
DTSTAMP:20260424T075426
CREATED:20251028T203836Z
LAST-MODIFIED:20251028T203836Z
UID:10000024-1764406800-1764428400@chaswilliamson.com
SUMMARY:Chapel Church Holiday Craft Show
DESCRIPTION:Today is a wonderful day to begin your Christmas season by picking up Chas Williamson’s A Catoctin Christmas!
URL:https://chaswilliamson.com/event1a/chapel-church-holiday-craft-show/
LOCATION:Chapel Church\, 3050 Cape Horn Road\, Red Lion\, PA\, 17356\, United States
END:VEVENT
BEGIN:VEVENT
DTSTART;TZID=America/New_York:20251122T090000
DTEND;TZID=America/New_York:20251122T150000
DTSTAMP:20260424T075426
CREATED:20251028T203525Z
LAST-MODIFIED:20251028T203525Z
UID:10000023-1763802000-1763823600@chaswilliamson.com
SUMMARY:Christmas in Loganville
DESCRIPTION:Join us and pick up your author signed copy of Chas’s new release\, A Catoctin Christmas!
URL:https://chaswilliamson.com/event1a/christmas-in-loganville/
LOCATION:Dallastown Intermediate School\, 94 Beck Road\, York\, PA\, 17403\, United States
END:VEVENT
BEGIN:VEVENT
DTSTART;TZID=America/New_York:20251101T090000
DTEND;TZID=America/New_York:20251102T160000
DTSTAMP:20260424T075426
CREATED:20251028T202918Z
LAST-MODIFIED:20251028T202918Z
UID:10000022-1761987600-1762099200@chaswilliamson.com
SUMMARY:Howard County Craft Spectacular Day 2
DESCRIPTION:Howard County Fairgrounds is where you can find Chas and peruse all three series of his Women’s Christian Fiction novels.  We hope to see you there!  Oct.31 9A-5P\, Nov.1 9A-5P\, Nov.2 9A-4P
URL:https://chaswilliamson.com/event1a/howard-county-craft-spectacular-day-2/
END:VEVENT
BEGIN:VEVENT
DTSTART;TZID=America/New_York:20251031T090000
DTEND;TZID=America/New_York:20251102T170000
DTSTAMP:20260424T075426
CREATED:20251028T202242Z
LAST-MODIFIED:20251028T202242Z
UID:10000021-1761901200-1762102800@chaswilliamson.com
SUMMARY:Howard County Craft Spectacular
DESCRIPTION:Stop by and get your copy of Chas’s new release\, A Catoctin Christmas!
URL:https://chaswilliamson.com/event1a/howard-county-craft-spectacular/
LOCATION:Howard County Fairgrounds\, 2210 Fairground Road\, West Friendship\, Maryland\, 21794
END:VEVENT
BEGIN:VEVENT
DTSTART;TZID=America/New_York:20251031T090000
DTEND;TZID=America/New_York:20251102T170000
DTSTAMP:20260424T075426
CREATED:20250918T162450Z
LAST-MODIFIED:20250918T162450Z
UID:10000020-1761901200-1762102800@chaswilliamson.com
SUMMARY:Howard County Craft Show
DESCRIPTION:Come check out Chas’s new release and pick up any books you may have missed.  It’s a great time to get Christmas gifts!
URL:https://chaswilliamson.com/event1a/howard-county-craft-show/
LOCATION:Howard County Fairgrounds\, 2210 Fairground Road\, West Friendship\, Maryland\, 21794
END:VEVENT
BEGIN:VEVENT
DTSTART;VALUE=DATE:20251012
DTEND;VALUE=DATE:20251013
DTSTAMP:20260424T075426
CREATED:20250826T205237Z
LAST-MODIFIED:20250826T205237Z
UID:10000019-1760227200-1760313599@chaswilliamson.com
SUMMARY:National Apple Harvest Festival and Booksigning
DESCRIPTION:Come say hi and enjoy the goat serenade!
URL:https://chaswilliamson.com/event1a/national-apple-harvest-festival-and-booksigning/
END:VEVENT
BEGIN:VEVENT
DTSTART;VALUE=DATE:20251011
DTEND;VALUE=DATE:20251012
DTSTAMP:20260424T075426
CREATED:20250826T205126Z
LAST-MODIFIED:20250826T205126Z
UID:10000018-1760140800-1760227199@chaswilliamson.com
SUMMARY:National Apple Harvest Festival Booksigning in the Barn
DESCRIPTION:Come see Chas in the Barn by the petting zoo and get his newest release.
URL:https://chaswilliamson.com/event1a/national-apple-harvest-festival-booksigning-in-the-barn/
END:VEVENT
BEGIN:VEVENT
DTSTART;VALUE=DATE:20251005
DTEND;VALUE=DATE:20251006
DTSTAMP:20260424T075426
CREATED:20250826T204904Z
LAST-MODIFIED:20250826T204904Z
UID:10000017-1759622400-1759708799@chaswilliamson.com
SUMMARY:National Apple Harvest Festival Booksigning
DESCRIPTION:Come enjoy day #2 at National Apple Harvest Festival!  Enjoy apples and a good book!
URL:https://chaswilliamson.com/event1a/national-apple-harvest-festival-booksigning-2/
END:VEVENT
BEGIN:VEVENT
DTSTART;VALUE=DATE:20251004
DTEND;VALUE=DATE:20251005
DTSTAMP:20260424T075426
CREATED:20250826T204639Z
LAST-MODIFIED:20250826T204639Z
UID:10000016-1759536000-1759622399@chaswilliamson.com
SUMMARY:National Apple Harvest Festival Booksigning
DESCRIPTION:National Apple Harvest Festival Booksigning-Come see Chas and hear about his new books.
URL:https://chaswilliamson.com/event1a/national-apple-harvest-festival-booksigning/
LOCATION:South Mountain Fairgrounds\, 615 Narrows Road\, Biglerville\, PA\, 17307\, United States
END:VEVENT
BEGIN:VEVENT
DTSTART;TZID=America/New_York:20250920T090000
DTEND;TZID=America/New_York:20250920T140000
DTSTAMP:20260424T075426
CREATED:20250826T204111Z
LAST-MODIFIED:20250826T204111Z
UID:10000015-1758358800-1758376800@chaswilliamson.com
SUMMARY:Paddletown Dumpling Day Booksigning
DESCRIPTION:Please come out to Paddletown St. Paul’s United Methodist Church to enjoy an apple dumpling and get a great read.
URL:https://chaswilliamson.com/event1a/paddletown-dumpling-day-booksigning/
LOCATION:Paddletown United Methodist Church\, 355 Church Road\, PA\, 17370\, United States
END:VEVENT
BEGIN:VEVENT
DTSTART;TZID=America/New_York:20250906T110000
DTEND;TZID=America/New_York:20250906T130000
DTSTAMP:20260424T075426
CREATED:20250625T215255Z
LAST-MODIFIED:20250625T215255Z
UID:10000013-1757156400-1757163600@chaswilliamson.com
SUMMARY:Booksigning at Sugar Plums and Teas
DESCRIPTION:Chas Williamson\, a local Christian Romance Author\, will be doing a booksigning at his favorite tea room\, Sugar Plums and Teas in September.  Come join us!  Call Sugarplums and Teas for reservations.
URL:https://chaswilliamson.com/event1a/booksigning-at-sugar-plums-and-teas/
LOCATION:Sugar Plums and Teas Tea Room\, 403 Bank Barn Lane\, Lancaster\, PA\, 17602\, United States
END:VEVENT
BEGIN:VEVENT
DTSTART;TZID=America/New_York:20250823T090000
DTEND;TZID=America/New_York:20250823T150000
DTSTAMP:20260424T075426
CREATED:20250514T153125Z
LAST-MODIFIED:20250514T153125Z
UID:10000012-1755939600-1755961200@chaswilliamson.com
SUMMARY:Salem Christian Church Car Show
DESCRIPTION:Chas Williamson will be joining Salem’s Car Show for a book signing.  Come check out his Christian Romance novels and the beautiful cars!
URL:https://chaswilliamson.com/event1a/salem-christian-church-car-show/
LOCATION:Salem Christian Church\, 24 Franklin Street\, Jacobus\, PA\, 17407\, United States
END:VEVENT
BEGIN:VEVENT
DTSTART;TZID=America/New_York:20250802T080000
DTEND;TZID=America/New_York:20250802T150000
DTSTAMP:20260424T075426
CREATED:20250514T152856Z
LAST-MODIFIED:20250514T152856Z
UID:10000011-1754121600-1754146800@chaswilliamson.com
SUMMARY:Newberrytown Church of God Book Signing
DESCRIPTION:Chas Williamson\, local Christian Romance author\, will be at Church of God in Newberrytown\, PA for a book signing.  Please come out and support the fundraiser.
URL:https://chaswilliamson.com/event1a/newberrytown-church-of-god-book-signing/
LOCATION:Church of God\, 2825 Old Trail Road\, York Haven\, PA\, 17370\, United States
END:VEVENT
BEGIN:VEVENT
DTSTART;TZID=America/New_York:20250708T090000
DTEND;TZID=America/New_York:20250708T200000
DTSTAMP:20260424T075426
CREATED:20250626T182633Z
LAST-MODIFIED:20250626T182705Z
UID:10000014-1751965200-1752004800@chaswilliamson.com
SUMMARY:Booksigning at Roots Country Market and Auction in Lancaster\, PA
DESCRIPTION:Stop by to see Chas to say Hi and buy one of his inspirational Women’s Christian Fiction romance novels on Tuesday!
URL:https://chaswilliamson.com/event1a/booksigning-at-roots-county-market-and-auction-in-lancaster-pa/
END:VEVENT
BEGIN:VEVENT
DTSTART;TZID=America/New_York:20250628T090000
DTEND;TZID=America/New_York:20250628T150000
DTSTAMP:20260424T075426
CREATED:20250514T152454Z
LAST-MODIFIED:20250514T152454Z
UID:10000010-1751101200-1751122800@chaswilliamson.com
SUMMARY:Salem Christian Church
DESCRIPTION:Chas will be at Salem’s Community Day for a book signing to help raise money for a local family in need.  Come out and join the fun!  Having food\, music\, entertainment\, yummy treats\, and cool items to buy!  See you then!
URL:https://chaswilliamson.com/event1a/salem-christian-church/
LOCATION:Salem Christian Church\, 24 Franklin Street\, Jacobus\, PA\, 17407\, United States
END:VEVENT
BEGIN:VEVENT
DTSTART;TZID=America/New_York:20250621T100000
DTEND;TZID=America/New_York:20250621T160000
DTSTAMP:20260424T075426
CREATED:20250514T151346Z
LAST-MODIFIED:20250514T151346Z
UID:10000009-1750500000-1750521600@chaswilliamson.com
SUMMARY:Tanger Outlet Book Signing
DESCRIPTION:Come meet Chas Williamson\, local Christian Romance author at Tanger Outlet.
URL:https://chaswilliamson.com/event1a/tanger-outlet-book-signing/
LOCATION:Tanger Outlet\, 311 Stanley K Tanger Drive\, Lancaster\, 17602
END:VEVENT
BEGIN:VEVENT
DTSTART;TZID=America/New_York:20250405T100000
DTEND;TZID=America/New_York:20250405T160000
DTSTAMP:20260424T075426
CREATED:20250115T213738Z
LAST-MODIFIED:20250115T213738Z
UID:10000008-1743847200-1743868800@chaswilliamson.com
SUMMARY:Tanger Outlet Booksigning with Local Author!
DESCRIPTION:Lancaster Community Market at Tanger is having an outdoor event.  Chas Williamson\, A Women’s Christian Fiction Romance Author will be there with his latest release\, Dreams.  Come join us!
URL:https://chaswilliamson.com/event1a/tanger-outlet-booksigning-with-local-author/
LOCATION:Tanger Outlet\, 311 Stanley K Tanger Drive\, Lancaster\, 17602
END:VEVENT
BEGIN:VEVENT
DTSTART;TZID=America/New_York:20250222T110000
DTEND;TZID=America/New_York:20250222T130000
DTSTAMP:20260424T075426
CREATED:20250115T211951Z
LAST-MODIFIED:20250115T211951Z
UID:10000007-1740222000-1740229200@chaswilliamson.com
SUMMARY:Sugar Plums and Teas Tea Room Booksigning!
DESCRIPTION:Come join a local author for his latest book release\, Dreams.  Meet Chas Williamson\, a Women’s Christian Fiction Author.  If you would like to have tea and refreshments there\, please remember to call for reservations at 717-394-9166.
URL:https://chaswilliamson.com/event1a/sugar-plums-and-teas-tea-room-booksigning/
LOCATION:Sugar Plums and Teas Tea Room\, 403 Bank Barn Lane\, Lancaster\, PA\, 17602\, United States
END:VEVENT
BEGIN:VEVENT
DTSTART;TZID=America/Denver:20241207T090000
DTEND;TZID=America/Denver:20241207T170000
DTSTAMP:20260424T075426
CREATED:20241209T161134Z
LAST-MODIFIED:20241209T161843Z
UID:10000005-1733562000-1733590800@chaswilliamson.com
SUMMARY:Daniel Boone Middle School
DESCRIPTION:1845 Weaver Town Rd. Douglasville\, PA 19518 \nLooking for a new Women’s Christian Fiction author? Try Chas Williamson’s books! Great Christmas gift!
URL:https://chaswilliamson.com/event1a/daniel-boone-middle-school/
END:VEVENT
BEGIN:VEVENT
DTSTART;TZID=America/Denver:20241130T090000
DTEND;TZID=America/Denver:20241130T170000
DTSTAMP:20260424T075426
CREATED:20241209T161023Z
LAST-MODIFIED:20241209T161023Z
UID:10000004-1732957200-1732986000@chaswilliamson.com
SUMMARY:Chapel church
DESCRIPTION:Red Lion PA \nCelebrate Christmas early with a good book!
URL:https://chaswilliamson.com/event1a/chapel-church/
END:VEVENT
BEGIN:VEVENT
DTSTART;TZID=America/Denver:20241123T090000
DTEND;TZID=America/Denver:20241123T170000
DTSTAMP:20260424T075426
CREATED:20241209T160909Z
LAST-MODIFIED:20241216T182958Z
UID:10000003-1732352400-1732381200@chaswilliamson.com
SUMMARY:Dallastown Area Intermediate School
DESCRIPTION:Christmas in Loganville \nCelebrate Christmas early with a good book!
URL:https://chaswilliamson.com/event1a/dallastown-area-intermediate-school/
END:VEVENT
BEGIN:VEVENT
DTSTART;TZID=America/Denver:20241101T090000
DTEND;TZID=America/Denver:20241101T160000
DTSTAMP:20260424T075426
CREATED:20241209T160739Z
LAST-MODIFIED:20241209T160739Z
UID:10000002-1730451600-1730476800@chaswilliamson.com
SUMMARY:Howard County Fairgrounds
DESCRIPTION:2210 Fairground Road\, West Friendship\, MD 21794 \nCelebrate Christmas early with a good book! Come see us November 1-3 from 9-5PM Friday and Saturday\, 9-4PM on Sunday. Hope to see you there!
URL:https://chaswilliamson.com/event1a/howard-county-fairgrounds/
END:VEVENT
BEGIN:VEVENT
DTSTART;TZID=America/Denver:20241005T080000
DTEND;TZID=America/Denver:20241005T170000
DTSTAMP:20260424T075426
CREATED:20241209T155814Z
LAST-MODIFIED:20241209T160558Z
UID:10000001-1728115200-1728147600@chaswilliamson.com
SUMMARY:Apple Harvest Festival
DESCRIPTION:Rt. 234 Near Arendtsville\, PA \nCome see him there and pick up his most recent books! They make great gifts! Saturday\, October 5 and 12 from 8-6PM and Sundays\, October 6 and 13th 8-5PM. See you there!
URL:https://chaswilliamson.com/event1a/apple-harvest-festival-rt-234-near-arendtsville-pa/
END:VEVENT
END:VCALENDAR